BEGIN:VCALENDAR
VERSION:2.0
PRODID:-// - ECPv6.15.20//NONSGML v1.0//EN
CALSCALE:GREGORIAN
METHOD:PUBLISH
X-ORIGINAL-URL:https://www.basqueeducational.org
X-WR-CALDESC:Events for 
REFRESH-INTERVAL;VALUE=DURATION:PT1H
X-Robots-Tag:noindex
X-PUBLISHED-TTL:PT1H
BEGIN:VTIMEZONE
TZID:UTC
BEGIN:STANDARD
TZOFFSETFROM:+0000
TZOFFSETTO:+0000
TZNAME:UTC
DTSTART:20210101T000000
END:STANDARD
END:VTIMEZONE
BEGIN:VTIMEZONE
TZID:America/Los_Angeles
BEGIN:DAYLIGHT
TZOFFSETFROM:-0800
TZOFFSETTO:-0700
TZNAME:PDT
DTSTART:20210314T100000
END:DAYLIGHT
BEGIN:STANDARD
TZOFFSETFROM:-0700
TZOFFSETTO:-0800
TZNAME:PST
DTSTART:20211107T090000
END:STANDARD
BEGIN:DAYLIGHT
TZOFFSETFROM:-0800
TZOFFSETTO:-0700
TZNAME:PDT
DTSTART:20220313T100000
END:DAYLIGHT
BEGIN:STANDARD
TZOFFSETFROM:-0700
TZOFFSETTO:-0800
TZNAME:PST
DTSTART:20221106T090000
END:STANDARD
BEGIN:DAYLIGHT
TZOFFSETFROM:-0800
TZOFFSETTO:-0700
TZNAME:PDT
DTSTART:20230312T100000
END:DAYLIGHT
BEGIN:STANDARD
TZOFFSETFROM:-0700
TZOFFSETTO:-0800
TZNAME:PST
DTSTART:20231105T090000
END:STANDARD
END:VTIMEZONE
BEGIN:VEVENT
DTSTART;TZID=UTC:20221007T193000
DTEND;TZID=UTC:20221007T220000
DTSTAMP:20260423T154121
CREATED:20220616T124436Z
LAST-MODIFIED:20220616T124439Z
UID:10000003-1665171000-1665180000@www.basqueeducational.org
SUMMARY:Basque Film Series | ILARGI GUZTIAK / ALL THE MOONS
DESCRIPTION:IMPORTANT NOTE:\nThe BEO will be following CDC guidelines for COVID-19. \nSYNOPSIS:\nDuring the death throes of the last Carlist war\, a young girl is rescued from an orphanage by a mysterious woman who lives deep in the forest. Badly wounded and feeling herself to be on the edge of death\, the girl will see the woman as an angel who has come to take her up to heaven… Before long she discovers that the strange being has given her eternal life\, obliging her to live in the darkness of the night\, “eternally” together. In this new condition\, she will have to deal with the painful passing of time enclosed in a girl’s body\, until she meets Cándido\, a poor man who will take her into his home as his own daughter and who will accompany her in the fight against her own nature and in the dream of recovering the life snatched from her. Ilargi Guztiak. Todas las lunas is a fantastic fable reflecting on the fear of death and immortality. \n\n\n\nClick here to learn more about the film
URL:https://www.basqueeducational.org/event/basque-film-series-ilargi-guztiak-all-the-moons/
LOCATION:SF Basque Cultural Center\, 599 Railroad\, South San Francisco\, CA\, 94080\, United States
CATEGORIES:2022 Basque Film Series,BEO sponsored event
ATTACH;FMTTYPE=image/png:https://www.basqueeducational.org/wp-content/uploads/2022/06/Ilargi-Guztiak-www.png
END:VEVENT
BEGIN:VEVENT
DTSTART;TZID=UTC:20220929T180000
DTEND;TZID=UTC:20220929T210000
DTSTAMP:20260423T154121
CREATED:20220823T225433Z
LAST-MODIFIED:20220921T065218Z
UID:10000033-1664474400-1664485200@www.basqueeducational.org
SUMMARY:Basque Film Series | The txoko experience
DESCRIPTION:IMPORTANT NOTE:\nThe BEO is hosting its first “Pintxos and Pics” event showing this film. Space is limited and while the event is free\, reservations are necessary. If you cannot come and have already RSVP’d\, please email info@basqueeducational.org and let us know. Thank you for your cooperation.  \nThe BEO will be following CDC guidelines for COVID-19. \nSYNOPSIS:\nA documentary focused on the unique spaces of txokos\, or gastronomic societies\, where artisanal cuisine is the main protagonist. Basque people enjoy the entire process of selecting local products at open air markets\, cooking together\, and\, finally\, eating and celebrating communally around the table. In txokos\, all of these processes come to life. The documentary will include the voices of a selection of renowned Basque chefs in their own restaurant kitchens\, and will highlight products like Rioja wine\, Idiazabal cheese\, and gourmet pastries\, to name a few. By emphasizing the products and the chefs who work with them\, the film will underline the value\, essence\, and environment in which delicious meals are created. \n2018\, directed by Yuri Morejon\, color\, in English\, Euskara & Castilian with English subtitles\, 54 minutes \n\n\n\nClick here to watch the trailer
URL:https://www.basqueeducational.org/event/the-txoko-experience/
LOCATION:SF Basque Cultural Center\, 599 Railroad\, South San Francisco\, CA\, 94080\, United States
CATEGORIES:2022 Basque Film Series,BEO sponsored event
ATTACH;FMTTYPE=image/png:https://www.basqueeducational.org/wp-content/uploads/2022/08/The-Txoko-Experience-www.png
END:VEVENT
BEGIN:VEVENT
DTSTART;TZID=UTC:20220909T193000
DTEND;TZID=UTC:20220909T220000
DTSTAMP:20260423T154121
CREATED:20220616T083255Z
LAST-MODIFIED:20220616T084332Z
UID:10000004-1662751800-1662760800@www.basqueeducational.org
SUMMARY:Basque Film Series | the ACCORDIONIST'S SON
DESCRIPTION:IMPORTANT NOTE:\nThe BEO will be following CDC guidelines for COVID-19. \nSYNOPSIS:\nDavid Imaz had to flee from the Basque Country in the mid-seventies\, repudiated by his people\, accused of betrayal. Despite having found happiness in California\, his past still weighs heavily on him and the feeling of guilt prevents him from being able to peacefully enjoy the last days of his life. Joseba Altuna\, his childhood friend\, comes to say goodbye and to settle the score while he’s at it. It’s been a long time since they saw one another\, but the time has come to face the truth. Based on the novel of the same name by Bernardo Atxaga. \n\n\n\nClick here to learn more about the film
URL:https://www.basqueeducational.org/event/basque-film-series-the-accordionists-son/
LOCATION:SF Basque Cultural Center\, 599 Railroad\, South San Francisco\, CA\, 94080\, United States
CATEGORIES:2022 Basque Film Series,BEO sponsored event
ATTACH;FMTTYPE=image/png:https://www.basqueeducational.org/wp-content/uploads/2022/06/Accordionists-Son-1.png
END:VEVENT
BEGIN:VEVENT
DTSTART;TZID=UTC:20220506T193000
DTEND;TZID=UTC:20220506T220000
DTSTAMP:20260423T154121
CREATED:20220211T094237Z
LAST-MODIFIED:20220322T022844Z
UID:10000018-1651865400-1651874400@www.basqueeducational.org
SUMMARY:Basque Film Series | Dardara
DESCRIPTION:IMPORTANT NOTE:\nThe BEO will be following CDC guidelines for COVID-19. \nSYNOPSIS:\nAfter 25 years of non-stop creation and at the peak of their career\, the rock band Berri Txarrak decided to hang up their instruments. But before they did that\, and as a farewell\, they did one last tour around the world to thank all those fans who had bopped to their music all those years. Filmmaker Marina Lameiro went with them with the intention of recording the occasion\, constructing a choral portrait from diverse stories that range from Spain to Mexico\, Germany\, Japan\, the United States\, etc.\, all marked by a common passion: the music of Berri Txarrak. \nWe see what their songs have left behind in a story that follows the final steps of a group capable of transcending a style\, a language\, and several generations to become a universal phenomenon. \nDardara (Trembling) is a documentary that progresses through the lyrics and reflections of Gorka Urbizu\, author of the group’s songs for a quarter of a century and who now faces the vertigo of a creative future that is yet to be written. A film about the power of music and passion – the “minimum requirement\,” as one of their lyrics says. Passion is what has guided them from their beginnings to this last tour and what has allowed them to become an important part of the life ofthousands of people. \n\n\n\nClick here to learn more about the film
URL:https://www.basqueeducational.org/event/basque-film-series-dardara/
LOCATION:SF Basque Cultural Center\, 599 Railroad\, South San Francisco\, CA\, 94080\, United States
CATEGORIES:2022 Basque Film Series,BEO sponsored event
ATTACH;FMTTYPE=image/png:https://www.basqueeducational.org/wp-content/uploads/2022/02/Dardara-movie-poster.png
END:VEVENT
BEGIN:VEVENT
DTSTART;TZID=America/Los_Angeles:20220408T193000
DTEND;TZID=America/Los_Angeles:20220408T220000
DTSTAMP:20260423T154121
CREATED:20220211T092715Z
LAST-MODIFIED:20220409T062355Z
UID:10000001-1649446200-1649455200@www.basqueeducational.org
SUMMARY:Basque Film Series | Gure Oroitzapenak
DESCRIPTION:IMPORTANT NOTE:\nThe BEO will be following CDC guidelines for COVID-19. \nSYNOPSIS:\nGure Oroitzapenak is a string of short films that brings to life the poems\, short stories and essays of renowned Basque writer Joseba Sarrionandia. His various writings\, now in film\, reflect the different aspects of his life that paint a picture of suffering\, love and endurance. \nThe countenance of Joseba Sarrionandia is multi-faceted\, not only for having dabbled in all literary forms of expression\, but for having been capable of creating his own imagery\, composed of endless worlds. Thus\, several of the elements appearing in the literary world will undoubtedly appear here: the sea\, the port\, childhood\, trains\, uprooting\, war\, destruction\, love\, drifting\, pain\, fantasy\, mystery\, initiation\, torture… \nPRESENTATION:\nNerea Eizagirre\, a Center for Basque Studies’ Ph.D. student\, will be presenting this film via Zoom. Her dissertation is on the writings of Sarrionandia\, and she is currently in the Basque Country doing field work for her dissertation.  She has interviewed Joseba Sarrionandia several times along with members of his family and\, along with Dr. Mari Jose Olaziregi\, she is organizing a conference on Sarrionandia´s literature that will be held in July in Bilbao. \n\n\n\nClick here to learn more about the film
URL:https://www.basqueeducational.org/event/basque-film-series-gure-oroitzapenak/
LOCATION:SF Basque Cultural Center\, 599 Railroad\, South San Francisco\, CA\, 94080\, United States
CATEGORIES:2022 Basque Film Series,BEO sponsored event
ATTACH;FMTTYPE=image/png:https://www.basqueeducational.org/wp-content/uploads/2022/02/gure-oirtoizapenak-poster.png
END:VEVENT
BEGIN:VEVENT
DTSTART;TZID=UTC:20220304T193000
DTEND;TZID=UTC:20220304T220000
DTSTAMP:20260423T154121
CREATED:20220119T135801Z
LAST-MODIFIED:20220120T035316Z
UID:10000013-1646422200-1646431200@www.basqueeducational.org
SUMMARY:Basque Film Series | Chillida\, Esku Huts
DESCRIPTION:TWO IMPORTANT NOTES:\n\nThe film will be presented by Dr. Larraitz Ariznabarreta\, of the William A. Douglass Center for Basque Studies\, who will introduce the film and lead a discussion and Q&A after the screening.\nThe BEO will be following CDC guidelines. Please be prepared to wear masks during the show.\n\nSYNOPSIS:\nAt the age of 19\, Eduardo Chillida (1924-2002) was a highly gifted athlete well on his way to becoming a football legend. However\, a brutal injury during a game put an end to his professional sports career. Nobody except Pilar Belzunce\, his life-long partner\, suspected that the young goalkeeper from Hernani was about to rewrite his future and die decades later as one of the 20th century’s best sculptors. Chillida: Esku Huts is not a conventional biography\, but a poetic\, intimate look at an artist second to none. A person who remains alive through his work\, his eight children and some of his closest collaborators. \n2016\, directed by Juan Barrero\, color\, in Euskara & Castilian with English subtitles\, 74 minutes
URL:https://www.basqueeducational.org/event/chillida-esku-huts/
LOCATION:SF Basque Cultural Center\, 599 Railroad\, South San Francisco\, CA\, 94080\, United States
CATEGORIES:2022 Basque Film Series,BEO sponsored event
ATTACH;FMTTYPE=image/png:https://www.basqueeducational.org/wp-content/uploads/2022/01/Chillida-Esku-Huts-poster.png
END:VEVENT
END:VCALENDAR