BEGIN:VCALENDAR
VERSION:2.0
PRODID:-// - ECPv6.15.20//NONSGML v1.0//EN
CALSCALE:GREGORIAN
METHOD:PUBLISH
X-ORIGINAL-URL:https://www.basqueeducational.org
X-WR-CALDESC:Events for 
REFRESH-INTERVAL;VALUE=DURATION:PT1H
X-Robots-Tag:noindex
X-PUBLISHED-TTL:PT1H
BEGIN:VTIMEZONE
TZID:UTC
BEGIN:STANDARD
TZOFFSETFROM:+0000
TZOFFSETTO:+0000
TZNAME:UTC
DTSTART:20200101T000000
END:STANDARD
END:VTIMEZONE
BEGIN:VTIMEZONE
TZID:America/Boise
BEGIN:DAYLIGHT
TZOFFSETFROM:-0700
TZOFFSETTO:-0600
TZNAME:MDT
DTSTART:20210314T090000
END:DAYLIGHT
BEGIN:STANDARD
TZOFFSETFROM:-0600
TZOFFSETTO:-0700
TZNAME:MST
DTSTART:20211107T080000
END:STANDARD
BEGIN:DAYLIGHT
TZOFFSETFROM:-0700
TZOFFSETTO:-0600
TZNAME:MDT
DTSTART:20220313T090000
END:DAYLIGHT
BEGIN:STANDARD
TZOFFSETFROM:-0600
TZOFFSETTO:-0700
TZNAME:MST
DTSTART:20221106T080000
END:STANDARD
BEGIN:DAYLIGHT
TZOFFSETFROM:-0700
TZOFFSETTO:-0600
TZNAME:MDT
DTSTART:20230312T090000
END:DAYLIGHT
BEGIN:STANDARD
TZOFFSETFROM:-0600
TZOFFSETTO:-0700
TZNAME:MST
DTSTART:20231105T080000
END:STANDARD
END:VTIMEZONE
BEGIN:VEVENT
DTSTART;TZID=UTC:20220408T180000
DTEND;TZID=UTC:20220408T200000
DTSTAMP:20260423T165143
CREATED:20220401T002044Z
LAST-MODIFIED:20220401T002722Z
UID:10000024-1649440800-1649448000@www.basqueeducational.org
SUMMARY:Memory & Emotion: Basque Women's Stories
DESCRIPTION:Center for Basque Studies professor and editor of our new book Memory and Emotion: Basque Women’s Stories\, Larraitz Ariznabarreta is hosting an event at the Basque Center in Boise\, Idaho. It will be a night of storytelling with Larraitz Ariznabarreta and Nere Lete\, Boise State University faculty and co-editor of Memory and Emotion. There will also be a performance of Ahaztu Gabe by Txori Baltza as well as a performance by the Oinkari Basque Dancers. This event is free and open to the public. Pintxos and light refreshments will be provided and drinks will be available.
URL:https://www.basqueeducational.org/event/memory-emotion-basque-womens-stories/
LOCATION:Basque Center  |  Boise\, ID\, 601 Grove Street\, Boise\, Idaho\, United States
CATEGORIES:Educational Institution Events
ATTACH;FMTTYPE=image/png:https://www.basqueeducational.org/wp-content/uploads/2022/03/Memory-Emotion-1.png
ORGANIZER;CN="The Basque Museum and cultural Center%2C Boise%2C ID":MAILTO:basquestudies@gmail.com
END:VEVENT
BEGIN:VEVENT
DTSTART;TZID=UTC:20220317T000000
DTEND;TZID=UTC:20220414T235959
DTSTAMP:20260423T165143
CREATED:20220323T013953Z
LAST-MODIFIED:20220330T024519Z
UID:10000021-1647475200-1649980799@www.basqueeducational.org
SUMMARY:Open call: Institute of Artistic Practices 2022
DESCRIPTION:Tabakalera continues to reinforce its program for professionals and to drive support for artistic practice. The Institute will open its doors in June and\, for three months\, it will work as a summer school and a space for carrying out artistic exchanges and experiences. Training will take place at the Tabakalera Artists’ Space between June 1 and August 31 with shorter stays in Artium and Museo Oteiza. \n\n\n\nTo learn more about this amazing opportunity\, and to find out how and where to apply…  \n\n\n\n\nVisit Tabakalera Here\n\n\n\n\n\n\n\n\nThe registration period is March 17 – April 14. \n\n\n\nThe program is from June 1 – August 31.
URL:https://www.basqueeducational.org/event/open-call-institute-of-artistic-practices-2022/
LOCATION:Andre zigarrogileak plaza\, 1 International Centre for Contemporary Culture\, Donostia-San Sebastián\, 20012\, Spain
CATEGORIES:Educational Institution Events
ATTACH;FMTTYPE=image/png:https://www.basqueeducational.org/wp-content/uploads/2022/03/Screen-Shot-2022-03-22-at-11.38.11-AM.png
ORGANIZER;CN="Tabakalera":MAILTO:info@tabakalera.eus
END:VEVENT
BEGIN:VEVENT
DTSTART;TZID=America/Boise:20220303T180000
DTEND;TZID=America/Boise:20220303T200000
DTSTAMP:20260423T165143
CREATED:20220219T040210Z
LAST-MODIFIED:20220219T040311Z
UID:10000020-1646330400-1646337600@www.basqueeducational.org
SUMMARY:The Boise State University Talks | An Idahoan Named Egurtxiki: The man who learnt Euskara
DESCRIPTION:The Department of World Languages\, Basque Studies Minor is proud to announce the 2022 Boise State University “Eloise Garmendia Bieter Chair in Basque Studies” lecture series. This year’s Chair is Dr. Xabier Irujo (Director of the Center for Basque Studies at the University of Nevada\, Reno). \nAn Idahoan Named Egurtxiki: The man who learnt Euskara to write about the bombing of Gernika. \nWilliam Smallwood “Egurtxiki” conducted more than one hundred clandestine interviews among survivors of the bombing of Gernika in the spring of 1972 and wrote one of the best books on the bombing\, The Day Guernica Was Bombed. He passed away last December in Arizona. \nThe book is available by purchase HERE. \nFor Zoom links\, contact Nere Lete at nlete@boisestate.edu.
URL:https://www.basqueeducational.org/event/an-idahoan-named-egurtxiki-the-man-who-learnt-euskara/
LOCATION:Basque Museum and Cultural Center\, 611 W. Grove Street\, Boise\, ID\, 83702\, United States
CATEGORIES:Educational Institution Events
ATTACH;FMTTYPE=image/png:https://www.basqueeducational.org/wp-content/uploads/2022/02/Boise-State-2022-Spring-Lecture-Series.png
ORGANIZER;CN="Boise State University Basque Studies Department":MAILTO:nlete@boisestate.edu
END:VEVENT
BEGIN:VEVENT
DTSTART;TZID=America/Boise:20220228T180000
DTEND;TZID=America/Boise:20220228T190000
DTSTAMP:20260423T165143
CREATED:20220219T034548Z
LAST-MODIFIED:20220219T034548Z
UID:10000019-1646071200-1646074800@www.basqueeducational.org
SUMMARY:The Boise State University Talks | Wor(l)d Building: Writing Historical Fiction
DESCRIPTION:The Department of World Languages\, Basque Studies Minor is proud to announce the 2022 Boise State University “Eloise Garmendia Bieter Chair in Basque Studies” lecture series. This year’s Chair is Dr. Xabier Irujo (Director of the Center for Basque Studies at the University of Nevada\, Reno). \nFor Zoom links\, contact Nere Lete at nlete@boisestate.edu.
URL:https://www.basqueeducational.org/event/world-building-writing-historical-fiction/
LOCATION:Boise State University\, Interactive Learning Center Room 213\, Boise
CATEGORIES:Educational Institution Events
ATTACH;FMTTYPE=image/png:https://www.basqueeducational.org/wp-content/uploads/2022/02/Boise-State-2022-Spring-Lecture-Series.png
ORGANIZER;CN="Boise State University Basque Studies Department":MAILTO:nlete@boisestate.edu
END:VEVENT
BEGIN:VEVENT
DTSTART;TZID=America/Boise:20220225T120000
DTEND;TZID=America/Boise:20220225T130000
DTSTAMP:20260423T165143
CREATED:20220219T033356Z
LAST-MODIFIED:20220219T034017Z
UID:10000005-1645790400-1645794000@www.basqueeducational.org
SUMMARY:The Boise State University Talks | Confronting Trauma: Writing about Gernika
DESCRIPTION:The Department of World Languages\, Basque Studies Minor is proud to announce the 2022 Boise State University “Eloise Garmendia Bieter Chair in Basque Studies” lecture series. This year’s Chair is Dr. Xabier Irujo (Director of the Center for Basque Studies at the University of Nevada\, Reno). \nFor Zoom links\, contact Nere Lete at nlete@boisestate.edu.
URL:https://www.basqueeducational.org/event/the-boise-state-university-talks-confronting-trauma-writing-about-gernika/
LOCATION:Boise State University\, Interactive Learning Center Room 213\, Boise
CATEGORIES:Educational Institution Events
ATTACH;FMTTYPE=image/png:https://www.basqueeducational.org/wp-content/uploads/2022/02/Boise-State-2022-Spring-Lecture-Series.png
ORGANIZER;CN="Boise State University Basque Studies Department":MAILTO:nlete@boisestate.edu
END:VEVENT
BEGIN:VEVENT
DTSTART;TZID=UTC:20210908T160000
DTEND;TZID=UTC:20210908T180000
DTSTAMP:20260423T165143
CREATED:20210903T054642Z
LAST-MODIFIED:20210903T054642Z
UID:10000042-1631116800-1631124000@www.basqueeducational.org
SUMMARY:UNR: Basque Statue Celebration
DESCRIPTION:Please visit UNR’s website for more information here.
URL:https://www.basqueeducational.org/event/unr-basque-statue-celebration/
LOCATION:University of Nevada\, Reno\, 1664 North Virginia Street\, Reno\, NV\, 89557\, United States
CATEGORIES:Educational Institution Events
ATTACH;FMTTYPE=image/png:https://www.basqueeducational.org/wp-content/uploads/2021/09/Screen-Shot-2021-09-02-at-3.45.22-PM.png
END:VEVENT
BEGIN:VEVENT
DTSTART;TZID=UTC:20210908T070000
DTEND;TZID=UTC:20210908T170000
DTSTAMP:20260423T165143
CREATED:20210903T053808Z
LAST-MODIFIED:20210903T054719Z
UID:10000041-1631084400-1631120400@www.basqueeducational.org
SUMMARY:Boise State University: Diaspora Eguna Mintzagai
DESCRIPTION:Euskal Ikasketak Mintzagai is intended to generate conversation and inspire innovative collaboration in Basque Studies.
URL:https://www.basqueeducational.org/event/boise-state-university-diaspora-eguna-mintzagai/
LOCATION:https://boisestate.zoom.us/j/98245999796
CATEGORIES:Educational Institution Events
ATTACH;FMTTYPE=image/png:https://www.basqueeducational.org/wp-content/uploads/2021/09/Screen-Shot-2021-09-02-at-3.37.19-PM.png
ORGANIZER;CN="Boise State University Basque Studies Program":MAILTO:nlete@boisestate.edu
END:VEVENT
END:VCALENDAR