BEGIN:VCALENDAR
VERSION:2.0
PRODID:-// - ECPv6.15.20//NONSGML v1.0//EN
CALSCALE:GREGORIAN
METHOD:PUBLISH
X-ORIGINAL-URL:https://www.basqueeducational.org
X-WR-CALDESC:Events for 
REFRESH-INTERVAL;VALUE=DURATION:PT1H
X-Robots-Tag:noindex
X-PUBLISHED-TTL:PT1H
BEGIN:VTIMEZONE
TZID:UTC
BEGIN:STANDARD
TZOFFSETFROM:+0000
TZOFFSETTO:+0000
TZNAME:UTC
DTSTART:20200101T000000
END:STANDARD
END:VTIMEZONE
BEGIN:VEVENT
DTSTART;TZID=UTC:20250330T073000
DTEND;TZID=UTC:20250330T170000
DTSTAMP:20260423T175235
CREATED:20250202T021409Z
LAST-MODIFIED:20250327T035112Z
UID:10000073-1743319800-1743354000@www.basqueeducational.org
SUMMARY:2025 BEO MUS TOURNAMENT
DESCRIPTION:LET’S DO THIS…\n\n\n\n\n\n\n\nREGISTER TODAY\n\n\n\n\n\n\n\n\n\n\nWHEN IS THE TOURNAMENT?\n\n\n\nSunday\, March 30. Mark your calendar. \n\n\n\nHere’s the schedule of events: \n\n\n\n7:30 a.m.  Registration8:15 a.m.  Mus tournament begins12:30 p.m.  Lunch2:00 p.m.  Final games \n\n\n\n*Register for Mus by March 28th. \n\n\n\nWHERE IS THE TOURNAMENT?\n\n\n\nAt the Basque Cultural Center599 Railroad AvenueSouth San Francisco\, CA 94080 \n\n\n\nMore specifically\, in the kantxa. \n\n\n\nWHO’S ELIGIBLE TO PLAY?\n\n\n\nAnyone 16 years and older. \n\n\n\nWHAT IF I DON’T HAVE A PARTNER?\n\n\n\nGo ahead and register; we’ll pair you with another “single” player. \n\n\n\n\n\nIS THERE LUNCH?\n\n\n\nThe Basque Cultural Center will have its members’ lunch\, which is a separate event and a separate cost. \n\n\n\n*Lunch is a separate cost. \n\n\n\nReservations for lunch are required by March 24th; you can reserve when you register to play or call the BCC directly at 650-583-8091. \n\n\n\nHOW MUCH DOES IT COST TO PLAY MUS?\n\n\n\n$40 / person. \n\n\n\nIS THIS A NABO TOURNAMENT?\n\n\n\nYes\, it is. \n\n\n\nThe winning team will play in the NABO finals in Los Banos\, California on Saturday\, June 14th\, 2025. \n\n\n\nWHO SHOULD I TALK TO IF I HAVE QUESTIONS?\n\n\n\nOur very talented mus coordinator\, Aline. Click here to email her.
URL:https://www.basqueeducational.org/event/2025-beo-mus-tournament/
LOCATION:San Francisco Basque Cultural Center\, 599 Railroad\, South San Francisco\, California
CATEGORIES:mus tournament
ATTACH;FMTTYPE=image/png:https://www.basqueeducational.org/wp-content/uploads/2024/05/mus.png
END:VEVENT
BEGIN:VEVENT
DTSTART;TZID=UTC:20240407T073000
DTEND;TZID=UTC:20240407T170000
DTSTAMP:20260423T175235
CREATED:20240130T015620Z
LAST-MODIFIED:20240301T104945Z
UID:10000057-1712475000-1712509200@www.basqueeducational.org
SUMMARY:2024 BEO MUS TOURNAMENT
DESCRIPTION:GET THE DETAILS HERE\nIn the meantime\, if you’d like to register ahead of time\, you may do so… \n\n\n\n\n\n\n    \n\n\n\n\n\n\n\n\n\n\n\n\n\n\n\n\n\n\n\n\n\n 
URL:https://www.basqueeducational.org/event/2024-beo-mus-tournament/
LOCATION:SF Basque Cultural Center\, 599 Railroad\, South San Francisco\, CA\, 94080\, United States
CATEGORIES:mus tournament
ATTACH;FMTTYPE=image/png:https://www.basqueeducational.org/wp-content/uploads/2024/01/Spanish-Cards-www.png
END:VEVENT
BEGIN:VEVENT
DTSTART;TZID=UTC:20220327T073000
DTEND;TZID=UTC:20220327T120000
DTSTAMP:20260423T175235
CREATED:20220126T064544Z
LAST-MODIFIED:20220322T023616Z
UID:10000014-1648366200-1648382400@www.basqueeducational.org
SUMMARY:NABO Mus Tournament
DESCRIPTION:TO LEARN MORE\, AND REGISTER\, CLICK HERE
URL:https://www.basqueeducational.org/event/nabo-mus-tournament/
LOCATION:SF Basque Cultural Center\, 599 Railroad\, South San Francisco\, CA\, 94080\, United States
CATEGORIES:mus tournament
ATTACH;FMTTYPE=image/png:https://www.basqueeducational.org/wp-content/uploads/2019/09/mus-bw.png
END:VEVENT
BEGIN:VEVENT
DTSTART;VALUE=DATE:20210725
DTEND;VALUE=DATE:20210726
DTSTAMP:20260423T175235
CREATED:20210518T063245Z
LAST-MODIFIED:20210624T023936Z
UID:10000037-1627171200-1627257599@www.basqueeducational.org
SUMMARY:First Annual NABO Mus Tournament
DESCRIPTION:TO LEARN MORE\, AND REGISTER\, CLICK HERE.
URL:https://www.basqueeducational.org/event/first-annual-nabo-mus-tournament/
LOCATION:SF Basque Cultural Center\, 599 Railroad\, South San Francisco\, CA\, 94080\, United States
CATEGORIES:mus tournament
END:VEVENT
END:VCALENDAR