BEGIN:VCALENDAR
VERSION:2.0
PRODID:-// - ECPv6.15.20//NONSGML v1.0//EN
CALSCALE:GREGORIAN
METHOD:PUBLISH
X-ORIGINAL-URL:https://www.basqueeducational.org
X-WR-CALDESC:Events for 
REFRESH-INTERVAL;VALUE=DURATION:PT1H
X-Robots-Tag:noindex
X-PUBLISHED-TTL:PT1H
BEGIN:VTIMEZONE
TZID:UTC
BEGIN:STANDARD
TZOFFSETFROM:+0000
TZOFFSETTO:+0000
TZNAME:UTC
DTSTART:20180101T000000
END:STANDARD
END:VTIMEZONE
BEGIN:VTIMEZONE
TZID:America/Los_Angeles
BEGIN:DAYLIGHT
TZOFFSETFROM:-0800
TZOFFSETTO:-0700
TZNAME:PDT
DTSTART:20200308T100000
END:DAYLIGHT
BEGIN:STANDARD
TZOFFSETFROM:-0700
TZOFFSETTO:-0800
TZNAME:PST
DTSTART:20201101T090000
END:STANDARD
BEGIN:DAYLIGHT
TZOFFSETFROM:-0800
TZOFFSETTO:-0700
TZNAME:PDT
DTSTART:20210314T100000
END:DAYLIGHT
BEGIN:STANDARD
TZOFFSETFROM:-0700
TZOFFSETTO:-0800
TZNAME:PST
DTSTART:20211107T090000
END:STANDARD
BEGIN:DAYLIGHT
TZOFFSETFROM:-0800
TZOFFSETTO:-0700
TZNAME:PDT
DTSTART:20220313T100000
END:DAYLIGHT
BEGIN:STANDARD
TZOFFSETFROM:-0700
TZOFFSETTO:-0800
TZNAME:PST
DTSTART:20221106T090000
END:STANDARD
END:VTIMEZONE
BEGIN:VEVENT
DTSTART;TZID=UTC:20211119T193000
DTEND;TZID=UTC:20211119T220000
DTSTAMP:20260423T131841
CREATED:20211002T015134Z
LAST-MODIFIED:20211111T065535Z
UID:10000008-1637350200-1637359200@www.basqueeducational.org
SUMMARY:Basque Film Series | Agur Etxebeste!
DESCRIPTION:IMPORTANT NOTE:\nThe BEO will be following CDC guidelines. Please be prepared to wear masks during the show. \nSYNOPSIS:\nThe long-anticipated sequel to the 2005 Basque hit comedy Aupa Etxebeste! sees beret-maker Patrizio Etxebeste discover that life as town mayor isn’t as easy as he thought. Feigning poor health so he can resign before being disgraced in a corruption scandal\, Patrizio passes the job on to his wife María Luisa\, whom he assumes will follow his orders. Chaos ensues when this does not turn out to be the case\, as María Luisa has ideas of her own. Seeing an opportunity to make real change\, his wife seizes the chance of a lifetime\, but will their marriage survive? \nReuniting the electric combination of Ramón Agirre (Operation Goldenshell SFF18) and Elena Irureta as they return to their roles of Mr. and Mrs. Etxebeste\, this sharp social satire about corruption and power in local politics world premiered to critical acclaim at the San Sebastián International Film Festival. Lampooning politics and marriage in a classic battle-of-the-sexes comedy\, Bye Bye Mr. Etxebeste! is as topical as it is hilarious.
URL:https://www.basqueeducational.org/event/basque-film-series-agur-etxebeste/
LOCATION:SF Basque Cultural Center\, 599 Railroad\, South San Francisco\, CA\, 94080\, United States
CATEGORIES:20-21 Basque Film Series,BEO sponsored event
ATTACH;FMTTYPE=image/jpeg:https://www.basqueeducational.org/wp-content/uploads/2021/10/Agur-Etxebeste-POSTER.jpg
END:VEVENT
BEGIN:VEVENT
DTSTART;VALUE=DATE:20211110
DTEND;VALUE=DATE:20211111
DTSTAMP:20260423T131841
CREATED:20210415T011339Z
LAST-MODIFIED:20211020T103642Z
UID:10000036-1636502400-1636588799@www.basqueeducational.org
SUMMARY:General Public BEO Meeting
DESCRIPTION:While the public is welcome to listen in on any of our monthly Board meetings\, this year we will be hosting the first of a series of biannual general meetings where we will be discussing what the BEO is up to\, where we’re hoping to go\, and will welcome insight from the general public. This specific meeting will follow our biennial event\, Basque Cultural Day where we hope to gather plenty of insight. \nMore details to follow.
URL:https://www.basqueeducational.org/event/general-public-beo-meeting/
LOCATION:Zoom ID: 826 8942 3045\, PW: BEORocks
CATEGORIES:BEO sponsored event
END:VEVENT
BEGIN:VEVENT
DTSTART;TZID=America/Los_Angeles:20211023T130000
DTEND;TZID=America/Los_Angeles:20211023T180000
DTSTAMP:20260423T131841
CREATED:20210318T053004Z
LAST-MODIFIED:20211021T114943Z
UID:10000035-1634994000-1635012000@www.basqueeducational.org
SUMMARY:Basque Cultural Day
DESCRIPTION:CLICK HERE TO GET ALL THE DETAILS ABOUT BASQUE CULTURAL DAY \n  \n\n\n\n\n\nBakartasuna Elkartuz  |  On Our Own Together\nWe are delighted to bring our biennial Basque Cultural Day to you virtually. While traditionally hosted at the Basque Cultural Center in San Francisco\, this gives us the opportunity to share this very special event to a much broader audience. \nWe have held some truly wonderful events in the past (you can learn more here)\, and this year is no exception. \nFUN FACT: We have met with each of the presenters individually\, and every single time our committee has stepped away energized and even more curious than when we started the meeting. To share this experience with you is an honor we don’t take lightly.
URL:https://www.basqueeducational.org/event/basque-cultural-day/
LOCATION:Zoom ID: 868 5829 1403
CATEGORIES:BEO sponsored event
ATTACH;FMTTYPE=image/png:https://www.basqueeducational.org/wp-content/uploads/2021/08/Larraitz.png
END:VEVENT
BEGIN:VEVENT
DTSTART;VALUE=DATE:20210731
DTEND;VALUE=DATE:20210801
DTSTAMP:20260423T131841
CREATED:20210720T122350Z
LAST-MODIFIED:20210720T122350Z
UID:10000039-1627689600-1627775999@www.basqueeducational.org
SUMMARY:Scholarship Intent to Apply DUE
DESCRIPTION:For more information\, please visit our scholarship page.
URL:https://www.basqueeducational.org/event/scholarship-intent-to-apply-due/
LOCATION:Online
CATEGORIES:BEO sponsored event
ATTACH;FMTTYPE=application/pdf:https://www.basqueeducational.org/wp-content/uploads/2021/07/BEO-Scholarship-Flier.pdf
END:VEVENT
BEGIN:VEVENT
DTSTART;VALUE=DATE:20210725
DTEND;VALUE=DATE:20210726
DTSTAMP:20260423T131841
CREATED:20210518T063245Z
LAST-MODIFIED:20210624T023936Z
UID:10000037-1627171200-1627257599@www.basqueeducational.org
SUMMARY:First Annual NABO Mus Tournament
DESCRIPTION:TO LEARN MORE\, AND REGISTER\, CLICK HERE.
URL:https://www.basqueeducational.org/event/first-annual-nabo-mus-tournament/
LOCATION:SF Basque Cultural Center\, 599 Railroad\, South San Francisco\, CA\, 94080\, United States
CATEGORIES:mus tournament
END:VEVENT
BEGIN:VEVENT
DTSTART;TZID=UTC:20201009T193000
DTEND;TZID=UTC:20201009T220000
DTSTAMP:20260423T131841
CREATED:20191023T043515Z
LAST-MODIFIED:20201007T222513Z
UID:10000047-1602271800-1602280800@www.basqueeducational.org
SUMMARY:Basque Film Series | Errementari
DESCRIPTION:IMPORTANT NOTE:\nThis is our first film to be shown since the lift to Stay-In-Place has been lifted due to COVID-19. Seating is very limited\, so reservations are mandatory. Please either make reservations below or call 415 / 235-4651 to make reservations by phone. *Masks required. Additionally\, no food or drink will be allowed in order to keep masks on at all times. Thank you for understanding. \nSYNOPSIS:\nEight years have passed since the First Carlist War of 1833. In a small Álava village\, a government commissioner called Alfredo investigates an occurrence which will take him to a sinister smithery deep in the forest\, home to a dangerous and solitary blacksmith called Patxi. The locals tell dark tales related to thefts\, murders and pacts with the Devil. Until one day\, by chance\, a little orphaned girl called Usue sneaks into the mysterious forge\, uncovering the terrible truth hidden behind Patxi the Blacksmith.
URL:https://www.basqueeducational.org/event/basque-film-series-errementari/
LOCATION:SF Basque Cultural Center\, 599 Railroad\, South San Francisco\, CA\, 94080\, United States
CATEGORIES:2020 Basque Film Series
ATTACH;FMTTYPE=image/jpeg:https://www.basqueeducational.org/wp-content/uploads/2019/10/Errementari-poster-scaled.jpg
END:VEVENT
BEGIN:VEVENT
DTSTART;TZID=UTC:20200501T193000
DTEND;TZID=UTC:20200501T220000
DTSTAMP:20260423T131841
CREATED:20191023T043332Z
LAST-MODIFIED:20191023T043332Z
UID:10000043-1588361400-1588370400@www.basqueeducational.org
SUMMARY:Basque Film Series | SOINUJOLEAREN SEMEA / THE ACCORDIANIST’S SON
DESCRIPTION:SYNOPSIS:\nDavid Imaz had to flee from the Basque Country in the mid-seventies\, repudiated by his people\, accused of betrayal. Despite having found happiness in California\, his past still weighs heavily on him and the feeling of guilt prevents him from being able to peacefully enjoy the last days of his life. Joseba Altuna\, his childhood friend\, comes to say goodbye and to settle the score while he’s at it. It’s been a long time since they saw one another\, but the time has come to face the truth. Based on the novel of the same name by Bernardo Atxaga.
URL:https://www.basqueeducational.org/event/basque-film-series-soinujolearen-semea-the-accordianists-son/
LOCATION:SF Basque Cultural Center\, 599 Railroad\, South San Francisco\, CA\, 94080\, United States
CATEGORIES:2020 Basque Film Series
ATTACH;FMTTYPE=image/jpeg:https://www.basqueeducational.org/wp-content/uploads/2019/10/Soinujolearen-Semea-poster.jpg
END:VEVENT
BEGIN:VEVENT
DTSTART;TZID=UTC:20200403T193000
DTEND;TZID=UTC:20200403T220000
DTSTAMP:20260423T131841
CREATED:20191023T043027Z
LAST-MODIFIED:20200318T023938Z
UID:10000015-1585942200-1585951200@www.basqueeducational.org
SUMMARY:POSTPONED UNTIL FURTHER NOTICE | Basque Film Series | PAGAFANTAS / FRIEND ZONE
DESCRIPTION:March 17\, 2020 Coronavirus Update \nThe health and safety of our community is of utmost importance; therefore\, and in accordance with local law\, we are postponing this event until further notice.  \nIf you have not yet done so\, please sign-up for email updates by scrolling down to the bottom and adding your information in BE IN THE KNOW. \nMeanwhile\, stay informed of the Coronavirus. Click here to be the most up-to-date information. \n\nSYNOPSIS:\nFor her\, there have always been two kinds of guys: the ones you desire and the ones who buy you drinks. For him\, she is the woman of his dreams\, the one he’s been waiting for. He is madly in love with her and patiently waiting for her to realize it. The thing is that she actually wants him to buy her a drink and stay in the friend zone.
URL:https://www.basqueeducational.org/event/basque-film-series-pagafantas-friend-zone/
LOCATION:SF Basque Cultural Center\, 599 Railroad\, South San Francisco\, CA\, 94080\, United States
CATEGORIES:2020 Basque Film Series
ATTACH;FMTTYPE=image/png:https://www.basqueeducational.org/wp-content/uploads/2019/10/pagafantas-poster.png
END:VEVENT
BEGIN:VEVENT
DTSTART;TZID=UTC:20200329T073000
DTEND;TZID=UTC:20200329T235900
DTSTAMP:20260423T131841
CREATED:20200116T000758Z
LAST-MODIFIED:20200318T023934Z
UID:10000009-1585467000-1585526340@www.basqueeducational.org
SUMMARY:POSTPONED UNTIL FURTHER NOTICE | 1st Annual NABO Mus Tournament
DESCRIPTION:March 17\, 2020 Coronavirus Update \nThe health and safety of our community is of utmost importance; therefore\, and in accordance with local law\, we are postponing this event until further notice.  \nIf you have not yet done so\, please sign-up for email updates by scrolling down to the bottom and adding your information in BE IN THE KNOW. \nMeanwhile\, stay informed of the Coronavirus. Click here to be the most up-to-date information. \n\nATTENTION MUS PLAYERS! MARK YOUR CALENDAR FOR SUNDAY\, MARCH 29TH! There’s a new mus tournament added to NABO’s calendar: The Basque Educational Organization (BEO) will be hosting their first annual tournament on Sunday\, March 29\, 2020 in San Francisco at the Basque Cultural Center. \n$25 per person / lunch not included \nRSVP to play Mus and eat Lunch one of these three ways: \nclick below \ncall Marisa @ 415-690-6602 \nemail info@basqueeducational.org \nDEADLINE for LUNCH RESERVATIONS: MARCH 20\, 2020
URL:https://www.basqueeducational.org/event/1st-annual-nabo-mus-tournament/
LOCATION:SF Basque Cultural Center\, 599 Railroad\, South San Francisco\, CA\, 94080\, United States
CATEGORIES:BEO sponsored event
ATTACH;FMTTYPE=image/jpeg:https://www.basqueeducational.org/wp-content/uploads/2020/01/mus-cards.jpeg
END:VEVENT
BEGIN:VEVENT
DTSTART;TZID=UTC:20200306T193000
DTEND;TZID=UTC:20200306T220000
DTSTAMP:20260423T131841
CREATED:20191023T042729Z
LAST-MODIFIED:20191023T042729Z
UID:10000044-1583523000-1583532000@www.basqueeducational.org
SUMMARY:Basque Film Series | OREINA / THE DEER
DESCRIPTION:SYNOPSIS:\nKhalil is a rootless young man who lives in the city’s margins\, where industrial estates bank onto the river and the marsh. He survives as well as he can\, spending his days with a poacher who shares a house on the riverbank with a brother he has not talked to for years. On the shores of the marsh the tides mark the time for love and indifference\, friendship and revenge.
URL:https://www.basqueeducational.org/event/basque-film-series-oreina-the-deer/
LOCATION:SF Basque Cultural Center\, 599 Railroad\, South San Francisco\, CA\, 94080\, United States
CATEGORIES:2020 Basque Film Series
ATTACH;FMTTYPE=image/png:https://www.basqueeducational.org/wp-content/uploads/2019/10/Oreina-poster.png
END:VEVENT
BEGIN:VEVENT
DTSTART;TZID=UTC:20200215T153000
DTEND;TZID=UTC:20200215T160000
DTSTAMP:20260423T131841
CREATED:20200208T070914Z
LAST-MODIFIED:20260302T175943Z
UID:10000007-1581780600-1581782400@www.basqueeducational.org
SUMMARY:Basque Film Series | THE SEVEN IN ONE WAY
DESCRIPTION:SYNOPSIS:\nIn the Seven in One Way\, Denise Orpustan-Love\, a first generation Basque American and her family return to the small rural village of Ossès in the Basque Country in the summer of 2017 to visit her family and continue the life dream of restoring her late father’s 18th century mill house. Based on her book\, The Mill House Speaks:  Seven Pathways to the Ancestral Basque Homeland\, Denise narrates her teachings of the seven pathways -perennial wisdoms and ancient traditions of Basque life and mysticism. As her late mentor Angeles Arrien writes in the foreword\, the seven pathways “although rooted in Basque mysticism\, reflect the universal mysticism of all people.  These pathways decode the common mystical experiences of ancient cultures into an understandable\, concrete and practical map for navigating the complexities of today’s modern world”.
URL:https://www.basqueeducational.org/event/the-seven-in-one-way/
LOCATION:SF Basque Cultural Center\, 599 Railroad\, South San Francisco\, CA\, 94080\, United States
CATEGORIES:2020 Basque Film Series
ATTACH;FMTTYPE=image/jpeg:https://www.basqueeducational.org/wp-content/uploads/2020/02/7in1Poster-scaled.jpg
END:VEVENT
BEGIN:VEVENT
DTSTART;TZID=UTC:20200207T193000
DTEND;TZID=UTC:20200207T220000
DTSTAMP:20260423T131841
CREATED:20200103T072837Z
LAST-MODIFIED:20200103T072837Z
UID:10000010-1581103800-1581112800@www.basqueeducational.org
SUMMARY:Basque Film Series | Black is Beltza
DESCRIPTION:SYNOPSIS:\nOctober 1965. The giant figures of San Fermín are invited to parade on New York’s Fifth Avenue\, but not all of them can participate: for racial reasons\, North American leaders have forbidden the black giants to participate in the event. Taking their inspiration from true events\, Muguruza\, Cano and Alderete tell the story of Manex Unanue\, a fictional character given the task of carrying one of those black giants. Bemoaning the fact that his companions have accepted the decision imposed on them\, Manex decides not to return home. Seen through the young boy’s eyes\, we discover the events that revolutionized the society of the mid-’60s: demonstrations after the death of Malcolm X\, the bizarre atmosphere of Warhol’s workshop\, the relationship woven between the Black Panthers and the Cuban secret service and the early days of the hippy movement\, enveloped in the psychedelic atmosphere of the first music macro festivals.
URL:https://www.basqueeducational.org/event/black-is-beltza/
LOCATION:SF Basque Cultural Center\, 599 Railroad\, South San Francisco\, CA\, 94080\, United States
CATEGORIES:2020 Basque Film Series
ATTACH;FMTTYPE=image/png:https://www.basqueeducational.org/wp-content/uploads/2020/01/Black-is-Beltza.png
END:VEVENT
BEGIN:VEVENT
DTSTART;TZID=UTC:20191026T130000
DTEND;TZID=UTC:20191026T235900
DTSTAMP:20260423T131841
CREATED:20190304T072800Z
LAST-MODIFIED:20191009T024309Z
UID:10000030-1572094800-1572134340@www.basqueeducational.org
SUMMARY:Basque Cultural Day: Kaliforniako Euskaldunen Atzak
DESCRIPTION:Basque Cultural Day is a biennial event\, hosted in San Francisco\, CA. This year our theme is “Basque Footprints in California”. Following is our schedule of events… and make sure to let us know you’re coming (keep scrolling down…): \n\n1:00 p.m. |  Early Basque Presence in Southern California\, presented by Marianna Etcheverria\, Jeanette Bidart\, and Mitch Gariador. \n2:00 p.m. |  Early Basque Presence in Central California\, presented by Steven Gamboa\, Steve Bass\, and Janet Barreneche; artwork by Pat Fernandez. \n3:15 p.m. |  Early Basque Presence in Northern California\, presented by Nancy Zubiri. \n4:15 p.m. |  The Greatest Generation: Bay Area Basques in WWII\, presented by Pedro Oiarzabal. \n6:00 p.m. |  Aperitif \n7:00 p.m. |  Dinner and entertainment\, cost of dinner $50 / adult\, $15 / child 12 years and younger – make reservations below. \nTo learn more about the presentations\, CLICK HERE. \n\nWould you like to pre-pay your dinner now? Let’s do it!\n\n						\n							The form is not published.
URL:https://www.basqueeducational.org/event/basque-cultural-day-2019/
LOCATION:SF Basque Cultural Center\, 599 Railroad\, South San Francisco\, CA\, 94080\, United States
CATEGORIES:fundraiser
ATTACH;FMTTYPE=image/png:https://www.basqueeducational.org/wp-content/uploads/2019/03/footprints-bw.png
END:VEVENT
BEGIN:VEVENT
DTSTART;TZID=UTC:20190929T070000
DTEND;TZID=UTC:20190929T120000
DTSTAMP:20260423T131841
CREATED:20190917T050523Z
LAST-MODIFIED:20190917T122156Z
UID:10000029-1569740400-1569758400@www.basqueeducational.org
SUMMARY:BEO Mus Tournament
DESCRIPTION:The BEO’s is hosting a fundraising open mus tournament. \nMUS ZATI BAT / Tournament Schedule \n7:00 AM   |  Registration / $25 per player\, tax deductible \n8:00 AM   |  MUS tournament begins \n12:30 PM |  Lunch break / a six-course meal will be available\, $20 for BCC members and $30 for non-members. RSVP for lunch by calling 650-583-8091. \n2:30 PM   |  Mus tournament continues / finals. \nPRIZES \nFirst Place Team: $200 \nSecond Place Team: $100 \nThe Basque Educational Organization (BEO is a 501(c)(3) non-profit organization. We are San Francisco based non-profit whose purpose is to honor the Basque culture by celebrating its history and rich tradition in the arts. Some of our activities include the biennial Basque Cultural Day (featuring distinguished Basque Studies speakers)\, a physical library\, and the Basque Film Series.
URL:https://www.basqueeducational.org/event/beo-mus-tournament/
LOCATION:SF Basque Cultural Center\, 599 Railroad\, South San Francisco\, CA\, 94080\, United States
CATEGORIES:fundraiser
ATTACH;FMTTYPE=image/png:https://www.basqueeducational.org/wp-content/uploads/2019/09/mus-bw.png
END:VEVENT
BEGIN:VEVENT
DTSTART;TZID=UTC:20190906T190000
DTEND;TZID=UTC:20190906T213000
DTSTAMP:20260423T131841
CREATED:20190302T095303Z
LAST-MODIFIED:20190302T101315Z
UID:10000023-1567796400-1567805400@www.basqueeducational.org
SUMMARY:Basque Film Series: LASA ETA ZABALA
DESCRIPTION:To learn more about this movie\, click here.
URL:https://www.basqueeducational.org/event/basque-film-series-lasa-eta-zabala/
LOCATION:SF Basque Cultural Center\, 599 Railroad\, South San Francisco\, CA\, 94080\, United States
CATEGORIES:2019 Basque Film Series
END:VEVENT
BEGIN:VEVENT
DTSTART;TZID=UTC:20190503T190000
DTEND;TZID=UTC:20190503T213000
DTSTAMP:20260423T131841
CREATED:20190302T094653Z
LAST-MODIFIED:20190302T101425Z
UID:10000027-1556910000-1556919000@www.basqueeducational.org
SUMMARY:Basque Film Series: DANTZA
DESCRIPTION:To learn more about this film\, click here.
URL:https://www.basqueeducational.org/event/dantza/
LOCATION:SF Basque Cultural Center\, 599 Railroad\, South San Francisco\, CA\, 94080\, United States
CATEGORIES:2019 Basque Film Series
END:VEVENT
BEGIN:VEVENT
DTSTART;TZID=UTC:20190301T190000
DTEND;TZID=UTC:20190301T213000
DTSTAMP:20260423T131841
CREATED:20190302T091541Z
LAST-MODIFIED:20190414T060003Z
UID:10000022-1551466800-1551475800@www.basqueeducational.org
SUMMARY:NEGOCIADOR (NEGOTIATOR)
DESCRIPTION:AWARDS \nIrizar Award – Best Basque Film at the 2014 San Sebastian International Film FestivalSYNOPSIS:Manu Aranguren is a Basque politician who acts as a mediator for the Spanish government in its negotiations with ETA. Far from being a solemn\, calculated occasion\, unexpected occurrences\, slip-ups or misunderstandings soon kick in to influence the dialogue. And the personal relationship between negotiators will be key in solving the conflict.2014\, directed by Borja Cobeaga\, 79 minutes\, color\, in Castilian with English Subtitles.Showing at the Basque Cultural Center\, 7:00 p.m.  |  FREE \n\n		\n	\n\n\n	\n		\n		\n			\n		\n	\n\n	\n		\n			\n		\n	\nABOUT THE DIRECTOR \nBorja Cobeaga combined his work as a television director (first season of Vaya Semanita in 2003 on ETB) with directing and writing short films such as La primera vez (2001) and …ramos pocos (2005)\, winners of more than 100 international awards plus a Goya and an Academy Award nomination respectively. Prior to Negociador\, he directed the feature films Pagafantas (2009) and No controles (2010)\, in addition to the short films Limoncello (2007)\, Un novio de mierda (2010) and Democracia (2013). He also co-wrote the films Amigos (2011) and 8 apellidos vascos (Spanish Affair\, 2014).
URL:https://www.basqueeducational.org/event/negociador-negotiator/
LOCATION:SF Basque Cultural Center\, 599 Railroad\, South San Francisco\, CA\, 94080\, United States
CATEGORIES:2019 Basque Film Series
END:VEVENT
END:VCALENDAR