BEGIN:VCALENDAR
VERSION:2.0
PRODID:-// - ECPv6.15.20//NONSGML v1.0//EN
CALSCALE:GREGORIAN
METHOD:PUBLISH
X-ORIGINAL-URL:https://www.basqueeducational.org
X-WR-CALDESC:Events for 
REFRESH-INTERVAL;VALUE=DURATION:PT1H
X-Robots-Tag:noindex
X-PUBLISHED-TTL:PT1H
BEGIN:VTIMEZONE
TZID:UTC
BEGIN:STANDARD
TZOFFSETFROM:+0000
TZOFFSETTO:+0000
TZNAME:UTC
DTSTART:20200101T000000
END:STANDARD
END:VTIMEZONE
BEGIN:VEVENT
DTSTART;TZID=UTC:20210908T070000
DTEND;TZID=UTC:20210908T170000
DTSTAMP:20260423T175111
CREATED:20210903T053808Z
LAST-MODIFIED:20210903T054719Z
UID:10000041-1631084400-1631120400@www.basqueeducational.org
SUMMARY:Boise State University: Diaspora Eguna Mintzagai
DESCRIPTION:Euskal Ikasketak Mintzagai is intended to generate conversation and inspire innovative collaboration in Basque Studies.
URL:https://www.basqueeducational.org/event/boise-state-university-diaspora-eguna-mintzagai/
LOCATION:https://boisestate.zoom.us/j/98245999796
CATEGORIES:Educational Institution Events
ATTACH;FMTTYPE=image/png:https://www.basqueeducational.org/wp-content/uploads/2021/09/Screen-Shot-2021-09-02-at-3.37.19-PM.png
ORGANIZER;CN="Boise State University Basque Studies Program":MAILTO:nlete@boisestate.edu
END:VEVENT
END:VCALENDAR