BEGIN:VCALENDAR
VERSION:2.0
PRODID:-// - ECPv6.15.20//NONSGML v1.0//EN
CALSCALE:GREGORIAN
METHOD:PUBLISH
X-ORIGINAL-URL:https://www.basqueeducational.org
X-WR-CALDESC:Events for 
REFRESH-INTERVAL;VALUE=DURATION:PT1H
X-Robots-Tag:noindex
X-PUBLISHED-TTL:PT1H
BEGIN:VTIMEZONE
TZID:UTC
BEGIN:STANDARD
TZOFFSETFROM:+0000
TZOFFSETTO:+0000
TZNAME:UTC
DTSTART:20210101T000000
END:STANDARD
END:VTIMEZONE
BEGIN:VEVENT
DTSTART;TZID=UTC:20220317T000000
DTEND;TZID=UTC:20220414T235959
DTSTAMP:20260423T190841
CREATED:20220323T013953Z
LAST-MODIFIED:20220330T024519Z
UID:10000021-1647475200-1649980799@www.basqueeducational.org
SUMMARY:Open call: Institute of Artistic Practices 2022
DESCRIPTION:Tabakalera continues to reinforce its program for professionals and to drive support for artistic practice. The Institute will open its doors in June and\, for three months\, it will work as a summer school and a space for carrying out artistic exchanges and experiences. Training will take place at the Tabakalera Artists’ Space between June 1 and August 31 with shorter stays in Artium and Museo Oteiza. \n\n\n\nTo learn more about this amazing opportunity\, and to find out how and where to apply…  \n\n\n\n\nVisit Tabakalera Here\n\n\n\n\n\n\n\n\nThe registration period is March 17 – April 14. \n\n\n\nThe program is from June 1 – August 31.
URL:https://www.basqueeducational.org/event/open-call-institute-of-artistic-practices-2022/
LOCATION:Andre zigarrogileak plaza\, 1 International Centre for Contemporary Culture\, Donostia-San Sebastián\, 20012\, Spain
CATEGORIES:Educational Institution Events
ATTACH;FMTTYPE=image/png:https://www.basqueeducational.org/wp-content/uploads/2022/03/Screen-Shot-2022-03-22-at-11.38.11-AM.png
ORGANIZER;CN="Tabakalera":MAILTO:info@tabakalera.eus
END:VEVENT
END:VCALENDAR