BEGIN:VCALENDAR
VERSION:2.0
PRODID:-// - ECPv6.15.20//NONSGML v1.0//EN
CALSCALE:GREGORIAN
METHOD:PUBLISH
X-ORIGINAL-URL:https://www.basqueeducational.org
X-WR-CALDESC:Events for 
REFRESH-INTERVAL;VALUE=DURATION:PT1H
X-Robots-Tag:noindex
X-PUBLISHED-TTL:PT1H
BEGIN:VTIMEZONE
TZID:America/Los_Angeles
BEGIN:DAYLIGHT
TZOFFSETFROM:-0800
TZOFFSETTO:-0700
TZNAME:PDT
DTSTART:20250309T100000
END:DAYLIGHT
BEGIN:STANDARD
TZOFFSETFROM:-0700
TZOFFSETTO:-0800
TZNAME:PST
DTSTART:20251102T090000
END:STANDARD
BEGIN:DAYLIGHT
TZOFFSETFROM:-0800
TZOFFSETTO:-0700
TZNAME:PDT
DTSTART:20260308T100000
END:DAYLIGHT
BEGIN:STANDARD
TZOFFSETFROM:-0700
TZOFFSETTO:-0800
TZNAME:PST
DTSTART:20261101T090000
END:STANDARD
BEGIN:DAYLIGHT
TZOFFSETFROM:-0800
TZOFFSETTO:-0700
TZNAME:PDT
DTSTART:20270314T100000
END:DAYLIGHT
BEGIN:STANDARD
TZOFFSETFROM:-0700
TZOFFSETTO:-0800
TZNAME:PST
DTSTART:20271107T090000
END:STANDARD
END:VTIMEZONE
BEGIN:VTIMEZONE
TZID:UTC
BEGIN:STANDARD
TZOFFSETFROM:+0000
TZOFFSETTO:+0000
TZNAME:UTC
DTSTART:20240101T000000
END:STANDARD
END:VTIMEZONE
BEGIN:VEVENT
DTSTART;TZID=America/Los_Angeles:20260407T180000
DTEND;TZID=America/Los_Angeles:20260407T200000
DTSTAMP:20260423T045736
CREATED:20260226T105829Z
LAST-MODIFIED:20260407T010441Z
UID:10000104-1775584800-1775592000@www.basqueeducational.org
SUMMARY:BFS: JONE\, BATZUETAN / JONE\, SOMETIMES
DESCRIPTION:Join the BEO for the screening of the “Jone\, Batzuetan” / “Jone\, Sometimes” at: \n\n\n\nSan Francisco’s Little Roxie Theater3125 16th StreetSan Francisco\, CA \n\n\n\nAdd to Calendar\n\n\n\n\n\n\n\n\n\n\nABOUT THE FILMBilbao\, mid-August. Jone (20) lives with her father and her younger sister Marta. Her father has had to leave his job\, unable to continue due to the complications of Parkinson’s. Meanwhile the Big Week festivities kick off in Bilbao\, during which Jone will fall in love for the first time. During this summer\, Jone will alternate between the sensation of immortality she enjoys with Olga\, the girl she falls for\, and the fear of being left alone because of her father’s disease. \n\n\n\n2025\, directed by Sara Fantova\, 80 minutes\, color\, in Euskara and Spanish with English subtitles.2025 San Sebastian International Film Festival Selection \n\n\n\nPre-purchase tickets today for $15\, or pay at the door for $20.
URL:https://www.basqueeducational.org/event/bfs-jone-batzuetan-jone-sometimes/
LOCATION:Roxie Theater\, 3125 16th Street\, San Francisco\, California\, 94103\, United States
CATEGORIES:2026 Basque Film Series,BEO sponsored event
ATTACH;FMTTYPE=image/png:https://www.basqueeducational.org/wp-content/uploads/2026/02/Jone-Batzuetan-www-still.png
END:VEVENT
BEGIN:VEVENT
DTSTART;TZID=UTC:20251111T180000
DTEND;TZID=UTC:20251111T200000
DTSTAMP:20260423T045736
CREATED:20251023T025939Z
LAST-MODIFIED:20251107T032934Z
UID:10000098-1762884000-1762891200@www.basqueeducational.org
SUMMARY:BFS: BIDEAN JARRAITUZ / FOLLOWING THE PATH
DESCRIPTION:Join the BEO for the screening of the documentary Bidean Jarraituz / Following the Path at San Francisco’s Roxie Theater. \n\n\n\n\n\n\n\n\nWATCH THE TRAILER\n\n\n\n\n\n\n\n\nABOUT THE FILMBingen Mendizabal\, film music composer\, was commissioned to compose the soundtrack for a documentary on the writer Bernardo Atxaga\, “Atxaga: euskaldunen barne (Atxaga: within the Basques)”. For some time now\, due to the economic crisis of 2008\, Bingen had seen that he was hardly working in the film industry. This new assignment brings him back to his memory and reminds him of his career in film and music from the 1980s to the present day in the Basque Country\, The film reviews through different testimonies the artistic maelstrom that took place and all the great names that made their way in the cinematographic and musical world\, names that put the Basque Country and its culture on the artistic map of a generation and that served as an example for the following generations. Throughout this review\, Bingen Mendizabal reflects on what success really is\, following one’s own path. \n\n\n\n\n\n\n\n\n\n\n\n\nAdd this event to your calendar
URL:https://www.basqueeducational.org/event/bfs-bidean-jarraituz/
LOCATION:Roxie Theater\, 3125 16th Street\, San Francisco\, California\, 94103\, United States
CATEGORIES:2025 Basque Film Series,BEO sponsored event
ATTACH;FMTTYPE=image/png:https://www.basqueeducational.org/wp-content/uploads/2025/10/BIDEAN-www-2.png
END:VEVENT
END:VCALENDAR